
BEGIN:VCALENDAR
VERSION:2.0
PRODID:-//Cluster Trasporti - ECPv6.2.9//NONSGML v1.0//EN
CALSCALE:GREGORIAN
METHOD:PUBLISH
X-WR-CALNAME:Cluster Trasporti
X-ORIGINAL-URL:https://www.clustertrasporti.it
X-WR-CALDESC:Eventi per Cluster Trasporti
REFRESH-INTERVAL;VALUE=DURATION:PT1H
X-Robots-Tag:noindex
X-PUBLISHED-TTL:PT1H
BEGIN:VTIMEZONE
TZID:Europe/Rome
BEGIN:DAYLIGHT
TZOFFSETFROM:+0100
TZOFFSETTO:+0200
TZNAME:CEST
DTSTART:20220327T010000
END:DAYLIGHT
BEGIN:STANDARD
TZOFFSETFROM:+0200
TZOFFSETTO:+0100
TZNAME:CET
DTSTART:20221030T010000
END:STANDARD
END:VTIMEZONE
BEGIN:VEVENT
DTSTART;TZID=Europe/Rome:20220929T090000
DTEND;TZID=Europe/Rome:20220929T110000
DTSTAMP:20260422T044242
CREATED:20220914T090317Z
LAST-MODIFIED:20220914T090756Z
UID:3761-1664442000-1664449200@www.clustertrasporti.it
SUMMARY:IN THE MED (AND THE WORLD) - Port&ShippingTech
DESCRIPTION:Naples Shipping Week \nPort&ShippingTech 2022 \nGIOVEDÌ 29 SETTEMBRE\nIN THE MED (AND THE WORLD)\n9.00 – 11.00 \nIl ritorno della geografia e della storia. L’Italia deve riscoprire e rilanciare la sua marittimità tra Europa e Mediterraneo\, la competizione della sponda sud\, fattori geopolitici. Soluzioni per il mantenimento e lo sviluppo delle posizioni degli operatori nazionali. \nIntroduce e conduce\nPaolo Quercia\, Direttore\, GeoTrade \nIl mondo post-24 febbraio\nDario Fabbri\, Direttore\, Domino \nL’hard-power in Europa e nel Mediterraneo: capacità militari e tecnologie\nAlessandro Marrone\, Responsabile Programma “Difesa”\, IAI \nLe rotte delle materie prime e il ruolo del trasporto marittimo in un futuro incerto\nEnnio Cascetta\, Professore\, Universitas Mercatorum e Presidente\, Cluster Tecnologico Nazionale Trasporti \nLa sponda sud\, chi fermerà la disgregazione\nGiuseppe Manna\, Analista geopolitico\, Storie D’Oltremare \nLa Geopolitica in azienda: una variabile ulteriore per la gestione di sistemi complessi\nEnrico Vergani\, Partner\, BonelliErede \nRegistrati
URL:https://www.clustertrasporti.it/evento/in-the-med-and-the-world-portshippingtech/
CATEGORIES:Marittima
ATTACH;FMTTYPE=image/png:https://www.clustertrasporti.it/wp-content/uploads/2022/09/cascetta_nsw_2022_1663146166_a65b79799a.png
END:VEVENT
END:VCALENDAR