
BEGIN:VCALENDAR
VERSION:2.0
PRODID:-//Cluster Trasporti - ECPv6.2.9//NONSGML v1.0//EN
CALSCALE:GREGORIAN
METHOD:PUBLISH
X-ORIGINAL-URL:https://www.clustertrasporti.it
X-WR-CALDESC:Eventi per Cluster Trasporti
REFRESH-INTERVAL;VALUE=DURATION:PT1H
X-Robots-Tag:noindex
X-PUBLISHED-TTL:PT1H
BEGIN:VTIMEZONE
TZID:Europe/Rome
BEGIN:DAYLIGHT
TZOFFSETFROM:+0100
TZOFFSETTO:+0200
TZNAME:CEST
DTSTART:20220327T010000
END:DAYLIGHT
BEGIN:STANDARD
TZOFFSETFROM:+0200
TZOFFSETTO:+0100
TZNAME:CET
DTSTART:20221030T010000
END:STANDARD
END:VTIMEZONE
BEGIN:VEVENT
DTSTART;TZID=Europe/Rome:20221212T090000
DTEND;TZID=Europe/Rome:20221212T170000
DTSTAMP:20260422T065406
CREATED:20221207T102643Z
LAST-MODIFIED:20221207T102643Z
UID:3955-1670835600-1670864400@www.clustertrasporti.it
SUMMARY:Abilitare i sistemi di trasporto autonomi e connessi alla tecnologia satellitare GNSS - Il contributo del progetto HELMET
DESCRIPTION:Abilitare i sistemi di trasporto autonomi e connessi alla tecnologia satellitare GNSS\nIl contributo del progetto HELMET \nWorkshop Lunedì 12 dicembre 2022\nOre 9:00\nUniversità Roma Tre\, via Vito Volterra 62 Roma \n  \nLunedì 12 dicembre appuntamento all’Università Roma Tre con il workshop per mettere a fuoco le sfide che dovranno affrontare gli operatori ferroviari e stradali per sfruttare al meglio le infrastrutture GNSS europee\, integrate con i dati dei sistemi satellitari EGNOS e Galileo. \nNel corso della giornata saranno illustrati anche gli ultimi risultati e il contributo che può fornire il progetto HELMET (High integrity EGNSS Layer for Multimodal Eco-friendly Transportation)\, finanziato da EU H2020 – EUSPA e coordinato da Radiolabs.
URL:https://www.clustertrasporti.it/evento/abilitare-i-sistemi-di-trasporto-autonomi-e-connessi-alla-tecnologia-satellitare-gnss-il-contributo-del-progetto-helmet/
CATEGORIES:Its
ATTACH;FMTTYPE=image/png:https://www.clustertrasporti.it/wp-content/uploads/2022/12/helmet_radiolabs_logo_1670408518_00faf915ea.png
END:VEVENT
END:VCALENDAR