
BEGIN:VCALENDAR
VERSION:2.0
PRODID:-//Cluster Trasporti - ECPv6.2.9//NONSGML v1.0//EN
CALSCALE:GREGORIAN
METHOD:PUBLISH
X-ORIGINAL-URL:https://www.clustertrasporti.it
X-WR-CALDESC:Eventi per Cluster Trasporti
REFRESH-INTERVAL;VALUE=DURATION:PT1H
X-Robots-Tag:noindex
X-PUBLISHED-TTL:PT1H
BEGIN:VTIMEZONE
TZID:Europe/Rome
BEGIN:DAYLIGHT
TZOFFSETFROM:+0100
TZOFFSETTO:+0200
TZNAME:CEST
DTSTART:20220327T010000
END:DAYLIGHT
BEGIN:STANDARD
TZOFFSETFROM:+0200
TZOFFSETTO:+0100
TZNAME:CET
DTSTART:20221030T010000
END:STANDARD
END:VTIMEZONE
BEGIN:VEVENT
DTSTART;TZID=Europe/Rome:20221213T170000
DTEND;TZID=Europe/Rome:20221213T190000
DTSTAMP:20260422T083713
CREATED:20221124T133501Z
LAST-MODIFIED:20221124T134102Z
UID:3932-1670950800-1670958000@www.clustertrasporti.it
SUMMARY:Traiettorie e competenze per un futuro sostenibile dell’industria marittima
DESCRIPTION:Nell’ambito della due giorni Traiettorie e competenze per un futuro sostenibile dell’industria marittima\, organizzata da mareFVG\, verrà presentata la Piattaforma M.IND\, sviluppata e gestita da mareFVG\, che permette di scoprire le aziende del settore in base alle loro filiera di appartenenza e ai relativi livelli di dettaglio. \nLa presentazione sarà integrata dai risultati del progetto “Indicatori macroeconomici FVG”\, attualmente in fase di esecuzione insieme all’Università di Trieste e AREA Science Park\, che arricchisce M.IND di ulteriori dettagli collegati alla propensione all’innovazione\, sostenibilità e a rating finanziari con l’obiettivo di approfondire la conoscenza del settore e fornire al territorio uno strumento più completo. \nIl convegno si concluderà con una tavola rotonda dedicata alle iniziative verso la sostenibilità delle PMI. \nMartedì 13 dicembre 2022 – Ore 17.00\nSala conferenze dell’azienda MW FEP\nVia M. Stoppani 23 Ronchi dei Legionari \nPer partecipare all’evento registrati qui
URL:https://www.clustertrasporti.it/evento/traiettorie-e-competenze-per-un-futuro-sostenibile-dellindustria-marittima/
CATEGORIES:Marittima
ATTACH;FMTTYPE=image/jpeg:https://www.clustertrasporti.it/wp-content/uploads/2022/04/yacht_barche_diporto_1649345120_da9606db55.jpg
END:VEVENT
END:VCALENDAR