
BEGIN:VCALENDAR
VERSION:2.0
PRODID:-//Cluster Trasporti - ECPv6.2.9//NONSGML v1.0//EN
CALSCALE:GREGORIAN
METHOD:PUBLISH
X-ORIGINAL-URL:https://www.clustertrasporti.it
X-WR-CALDESC:Eventi per Cluster Trasporti
REFRESH-INTERVAL;VALUE=DURATION:PT1H
X-Robots-Tag:noindex
X-PUBLISHED-TTL:PT1H
BEGIN:VTIMEZONE
TZID:Europe/Rome
BEGIN:DAYLIGHT
TZOFFSETFROM:+0100
TZOFFSETTO:+0200
TZNAME:CEST
DTSTART:20210328T010000
END:DAYLIGHT
BEGIN:STANDARD
TZOFFSETFROM:+0200
TZOFFSETTO:+0100
TZNAME:CET
DTSTART:20211031T010000
END:STANDARD
END:VTIMEZONE
BEGIN:VEVENT
DTSTART;VALUE=DATE:20210311
DTEND;VALUE=DATE:20210312
DTSTAMP:20260425T214014
CREATED:20210304T112645Z
LAST-MODIFIED:20210304T113416Z
UID:2362-1615420800-1615507199@www.clustertrasporti.it
SUMMARY:SCADENZA CANDIDATURA AL PROGETTO BLOCKSTART: UN BANDO PER LE IMPRESE INNOVATIVE
DESCRIPTION:Entro l’11 marzo 2021 le imprese interessate potranno candidarsi al bando del progetto BlockStart per reclutare Piccole e Medie imprese interessate ad adottare tecnologie blockchain e a collaborare con startup e sviluppatori che hanno proposto tali soluzioni selezionate nell’ambito del programma di accelerazione.
URL:https://www.clustertrasporti.it/evento/scadenza-candidatura-al-progetto-blockstart-un-bando-per-le-imprese-innovative/
CATEGORIES:Bandi
ATTACH;FMTTYPE=image/jpeg:https://www.clustertrasporti.it/wp-content/uploads/2021/03/blockstart_1614857117_5216e3bbcb.jpg
END:VEVENT
END:VCALENDAR