
BEGIN:VCALENDAR
VERSION:2.0
PRODID:-//Cluster Trasporti - ECPv6.2.9//NONSGML v1.0//EN
CALSCALE:GREGORIAN
METHOD:PUBLISH
X-WR-CALNAME:Cluster Trasporti
X-ORIGINAL-URL:https://www.clustertrasporti.it
X-WR-CALDESC:Eventi per Cluster Trasporti
REFRESH-INTERVAL;VALUE=DURATION:PT1H
X-Robots-Tag:noindex
X-PUBLISHED-TTL:PT1H
BEGIN:VTIMEZONE
TZID:Europe/Rome
BEGIN:DAYLIGHT
TZOFFSETFROM:+0100
TZOFFSETTO:+0200
TZNAME:CEST
DTSTART:20180325T010000
END:DAYLIGHT
BEGIN:STANDARD
TZOFFSETFROM:+0200
TZOFFSETTO:+0100
TZNAME:CET
DTSTART:20181028T010000
END:STANDARD
BEGIN:DAYLIGHT
TZOFFSETFROM:+0100
TZOFFSETTO:+0200
TZNAME:CEST
DTSTART:20190331T010000
END:DAYLIGHT
BEGIN:STANDARD
TZOFFSETFROM:+0200
TZOFFSETTO:+0100
TZNAME:CET
DTSTART:20191027T010000
END:STANDARD
BEGIN:DAYLIGHT
TZOFFSETFROM:+0100
TZOFFSETTO:+0200
TZNAME:CEST
DTSTART:20200329T010000
END:DAYLIGHT
BEGIN:STANDARD
TZOFFSETFROM:+0200
TZOFFSETTO:+0100
TZNAME:CET
DTSTART:20201025T010000
END:STANDARD
BEGIN:DAYLIGHT
TZOFFSETFROM:+0100
TZOFFSETTO:+0200
TZNAME:CEST
DTSTART:20210328T010000
END:DAYLIGHT
BEGIN:STANDARD
TZOFFSETFROM:+0200
TZOFFSETTO:+0100
TZNAME:CET
DTSTART:20211031T010000
END:STANDARD
BEGIN:DAYLIGHT
TZOFFSETFROM:+0100
TZOFFSETTO:+0200
TZNAME:CEST
DTSTART:20220327T010000
END:DAYLIGHT
BEGIN:STANDARD
TZOFFSETFROM:+0200
TZOFFSETTO:+0100
TZNAME:CET
DTSTART:20221030T010000
END:STANDARD
BEGIN:DAYLIGHT
TZOFFSETFROM:+0100
TZOFFSETTO:+0200
TZNAME:CEST
DTSTART:20230326T010000
END:DAYLIGHT
BEGIN:STANDARD
TZOFFSETFROM:+0200
TZOFFSETTO:+0100
TZNAME:CET
DTSTART:20231029T010000
END:STANDARD
END:VTIMEZONE
BEGIN:VEVENT
DTSTART;VALUE=DATE:20231110
DTEND;VALUE=DATE:20231111
DTSTAMP:20260419T230907
CREATED:20231102T151806Z
LAST-MODIFIED:20231102T151806Z
UID:4261-1699574400-1699660799@www.clustertrasporti.it
SUMMARY:Ecomondo - Iniziative ECOSISTER
DESCRIPTION:A Ecomondo – Rimini\, 7-10/11/2023 – venerdì della prossima settimana si svolgeranno due iniziative dell’ecosistema per la transizione sostenibile in Emilia-Romagna nell’ambito dell’area “Clima\, Energia e Mobilità sostenibile”\, ECOSISTER. \nIl progetto Ecosister\, fa parte dei progetti finanziati dal PNRR sugli Ecosistemi dell’innovazione territoriali ed ha come focus la transizione sostenibile. \nGREEN PHD OPEN TALK\nVenerdì 10 Novembre 2023 | 09:30 – 11:00\nAgorà Ariminum – Circular Economy Area pad. D1 \nDurante questo evento si potranno approfondire le esperienze di Phd che presenteranno le loro attività di collaborazione con le imprese. Inoltre l’evento mira a promuovere la figura del Dottore di Ricerca come facilitatore e abilitatore della transizione sostenibile nell’ecosistema della ricerca e dell’innovazione per il territorio e per le imprese \nBandi a Cascata ECOSISTER: finanziamenti per l’Innovazione delle Imprese del Mezzogiorno \nVenerdì 10 Novembre 2023 | 11:30 – 13:30\nAgorà Flaminia – Sites & Soil Restoration Area pad. C1 \nA questo evento sono in particolare invitate imprese del Mezzogiorno che potranno candidarsi a ottenere i finanziamenti disponibili.
URL:https://www.clustertrasporti.it/evento/ecomondo-iniziative-ecosister/
LOCATION:Fiera di Rimini
CATEGORIES:Intermodalità,Its
ATTACH;FMTTYPE=image/png:https://www.clustertrasporti.it/wp-content/uploads/2023/11/ecomondo_1698938245_6658c156bd.png
END:VEVENT
BEGIN:VEVENT
DTSTART;TZID=Europe/Rome:20230712T100000
DTEND;TZID=Europe/Rome:20230712T180000
DTSTAMP:20260419T230907
CREATED:20230616T143606Z
LAST-MODIFIED:20230616T143606Z
UID:4160-1689156000-1689184800@www.clustertrasporti.it
SUMMARY:Soluzioni per la digitalizzazione delle infrastrutture
DESCRIPTION:Convegno “Soluzioni per la digitalizzazione delle infrastrutture”\, organizzato da TTS Italia\, con il patrocinio di PIARC – Associazione Mondiale della Strada. \nL’appuntamento è il 12 luglio\, in presenza a Roma\, per presentare i risultati dell’omonimo Gruppo di Lavoro lanciato ad aprile dall’Associazione\, e in particolare verterà su un position paper che\, partendo dalla proposta della nua Direttiva Europea sugli ITS\, si incentra su tematiche chiave quali le tecnologie intelligenti per le infrastrutture\, la mobilità cooperativa e la sicurezza stradale\, prendendo in considerazione opportunità\, criticità e impatti per arrivare a proposte di azioni concrete. \nIl Convegno punta al confronto tra Istituzioni\, Città\, Associazioni e Industria del settore lasciando spazio anche a Case Study di carattere pratico.
URL:https://www.clustertrasporti.it/evento/soluzioni-per-la-digitalizzazione-delle-infrastrutture/
LOCATION:Roma\, Sala FelliniVia Alibert 5/a
CATEGORIES:Its
ATTACH;FMTTYPE=image/jpeg:https://www.clustertrasporti.it/wp-content/uploads/2023/06/tts_1686926035_72ecb0838c.jpeg
END:VEVENT
BEGIN:VEVENT
DTSTART;TZID=Europe/Rome:20221212T090000
DTEND;TZID=Europe/Rome:20221212T170000
DTSTAMP:20260419T230907
CREATED:20221207T102643Z
LAST-MODIFIED:20221207T102643Z
UID:3955-1670835600-1670864400@www.clustertrasporti.it
SUMMARY:Abilitare i sistemi di trasporto autonomi e connessi alla tecnologia satellitare GNSS - Il contributo del progetto HELMET
DESCRIPTION:Abilitare i sistemi di trasporto autonomi e connessi alla tecnologia satellitare GNSS\nIl contributo del progetto HELMET \nWorkshop Lunedì 12 dicembre 2022\nOre 9:00\nUniversità Roma Tre\, via Vito Volterra 62 Roma \n  \nLunedì 12 dicembre appuntamento all’Università Roma Tre con il workshop per mettere a fuoco le sfide che dovranno affrontare gli operatori ferroviari e stradali per sfruttare al meglio le infrastrutture GNSS europee\, integrate con i dati dei sistemi satellitari EGNOS e Galileo. \nNel corso della giornata saranno illustrati anche gli ultimi risultati e il contributo che può fornire il progetto HELMET (High integrity EGNSS Layer for Multimodal Eco-friendly Transportation)\, finanziato da EU H2020 – EUSPA e coordinato da Radiolabs.
URL:https://www.clustertrasporti.it/evento/abilitare-i-sistemi-di-trasporto-autonomi-e-connessi-alla-tecnologia-satellitare-gnss-il-contributo-del-progetto-helmet/
CATEGORIES:Its
ATTACH;FMTTYPE=image/png:https://www.clustertrasporti.it/wp-content/uploads/2022/12/helmet_radiolabs_logo_1670408518_00faf915ea.png
END:VEVENT
BEGIN:VEVENT
DTSTART;TZID=Europe/Rome:20221125T080000
DTEND;TZID=Europe/Rome:20221125T170000
DTSTAMP:20260419T230907
CREATED:20221125T095712Z
LAST-MODIFIED:20221125T100109Z
UID:3936-1669363200-1669395600@www.clustertrasporti.it
SUMMARY:Appalti per l'Innovazione\, opportunità per le imprese innovative - Workshop online
DESCRIPTION:Workshop organizzato da ART-ER nell’ambito delle attività del Consorzio SIMPLER – Enterprise Europe Network\, con l’obiettivo di fornire – in particolare a PMI e start up che sviluppano tecnologie e innovazioni – un quadro conoscitivo e introduttivo al tema degli appalti per l’innovazione\, procedure attraverso le quali l’acquirente pubblico acquista servizi di ricerca e sviluppo ovvero prodotti\, servizi\, processi che ancora non esistono sul mercato. \nIl programma \nNel corso del workshop saranno presentati casi studio e testimonianze di esperienze sul campo cui seguirà una tavola rotonda per un confronto su possibili scenari e ambiti applicativi di interesse per l’ecosistema regionale\, tenuto conto dei trend in atto e del crescente sviluppo dei mercati elettronici. \nRegistrati
URL:https://www.clustertrasporti.it/evento/appalti-per-linnovazione-opportunita-per-le-imprese-innovative-workshop-online/
CATEGORIES:Its
ATTACH;FMTTYPE=image/jpeg:https://www.clustertrasporti.it/wp-content/uploads/2021/06/rete-web_1623407642_bb6f94187e.jpg
END:VEVENT
BEGIN:VEVENT
DTSTART;TZID=Europe/Rome:20221107T100000
DTEND;TZID=Europe/Rome:20221107T173000
DTSTAMP:20260419T230907
CREATED:20221018T085232Z
LAST-MODIFIED:20221018T085232Z
UID:3869-1667815200-1667842200@www.clustertrasporti.it
SUMMARY:Digitalizzazione e gestione del rischio: i protagonisti della mobilità sostenibile - Convegno
DESCRIPTION:Digitalizzazione e gestione del rischio: i protagonisti della mobilità sostenibile \nGenova – Palazzo Ducale\nP.zza G. Matteotti 9\n7 Novembre 2022\nore 10.00-17.30 \nNei prossimi decenni il settore della mobilità subirà profondi mutamenti legati all’introduzione di vettori energetici diversi da quelli fossili e una digitalizzazione e all’automatizzazione dei veicoli siano essi automobili\, treni o altro.\nPer far sì che questo scenario possa migliorare la mobilità e\nrenderla più rispettosa dell’ambiente è necessario analizzare fin da subito quelli che potrebbero essere gli elementi che impattano sulla sicurezza della mobilità. \nQuesti gli aspetti che verranno analizzati durante il convegno che vede la presenza di coloro che stanno progettando le infrastrutture per la realizzazione della smart mobility in Italia.
URL:https://www.clustertrasporti.it/evento/digitalizzazione-e-gestione-del-rischio-i-protagonisti-della-mobilita-sostenibile-convegno/
CATEGORIES:Its
ATTACH;FMTTYPE=image/jpeg:https://www.clustertrasporti.it/wp-content/uploads/2022/08/elettrico_mobilita_veloce_1659598193_dcf8a4562c.jpg
END:VEVENT
BEGIN:VEVENT
DTSTART;TZID=Europe/Rome:20221017T163000
DTEND;TZID=Europe/Rome:20221017T173000
DTSTAMP:20260419T230907
CREATED:20221012T132539Z
LAST-MODIFIED:20221012T132539Z
UID:3859-1666024200-1666027800@www.clustertrasporti.it
SUMMARY:Concedi l'accesso remoto sicuro alle risorse aziendali critiche - Webinar
DESCRIPTION:Per le aziende è sempre più importante garantire un accesso remoto sicuro alle risorse critiche dell’azienda a utenti interni o esterni. \nPer rispondere alle esigenze di imprenditori\, professionisti ITC\, responsabili R&D e chiunque sia interessato a un modello di soluzione per supportare le attività a distanza sulle risorse delle aziende\, Drivesec presenta Access-o\, un sistema innovativo\, facile da usare\, completamente configurabile e sicuro per condividere risorse raggiungibili tramite TCP/IP. \nAppuntamento Lunedì 17 ottobre ore 16.30-17.30 con il webinar Concedi l’accesso remoto sicuro alle risorse aziendali critiche con le soluzioni Drivesec. \nRegistrati
URL:https://www.clustertrasporti.it/evento/concedi-laccesso-remoto-sicuro-alle-risorse-aziendali-critiche-webinar/
CATEGORIES:Its
ATTACH;FMTTYPE=image/jpeg:https://www.clustertrasporti.it/wp-content/uploads/2017/10/idee_1508503251_d12bb97b69.jpg
END:VEVENT
BEGIN:VEVENT
DTSTART;TZID=Europe/Rome:20220920T080000
DTEND;TZID=Europe/Rome:20220923T170000
DTSTAMP:20260419T230907
CREATED:20220726T094145Z
LAST-MODIFIED:20220726T094716Z
UID:3702-1663660800-1663952400@www.clustertrasporti.it
SUMMARY:OpenLivingLab Days (Torino)
DESCRIPTION:OpenLivingLab Days (OLLD) è l’incontro annua­le glo­ba­le dei Living Labs organizzato da ENoLL (European Network of Living Labs). \nQuest’anno\, l’evento si terrà a Torino\, dal 20 al 23 settembre e sarà ospitato e coorganizzato dalla Città di Torino\, da CTE NEXT – The House of Emerging Technologies e da Torino City Lab\, con il sostegno del Ministero dello Sviluppo Economico italiano e la partecipazione della Commissione Europea. \n“LA CITTÀ COME LABORATORIO DI INNOVAZIONE!” \nI Living Lab sono strumenti forti che sostengono le città e le regioni nella loro transizione verso un futuro resiliente e sostenibile basato sull’innovazione aperta e inclusiva. Rappresentano un elemento chiave per consentire ai cittadini di cocreare le loro città e regioni\, migliorando al contempo i loro ecosistemi attraverso le tecnologie emergenti. \nPer informazioni/iscrizioni
URL:https://www.clustertrasporti.it/evento/openlivinglab-days-torino/
CATEGORIES:Its
ATTACH;FMTTYPE=image/png:https://www.clustertrasporti.it/wp-content/uploads/2022/07/oldd_2022_torino_1658828791_f1c316aeba.png
END:VEVENT
BEGIN:VEVENT
DTSTART;TZID=Europe/Rome:20220714T080000
DTEND;TZID=Europe/Rome:20220715T170000
DTSTAMP:20260419T230907
CREATED:20220607T083100Z
LAST-MODIFIED:20220607T083100Z
UID:3596-1657785600-1657904400@www.clustertrasporti.it
SUMMARY:MaaS4Italy: il futuro in Italia è Mobility as a Service
DESCRIPTION:14/15 luglio 2022 \nMaaS4Italy: il futuro in Italia è Mobility as a Service \nSala Petrassi – Auditorium Parco della Musica \nViale Pietro de Coubertin 10\, Roma \nConvegno organizzato da TTS Italia in collaborazione con il Comune di Roma \nRegistrati on line
URL:https://www.clustertrasporti.it/evento/maas4italy-il-futuro-in-italia-e-mobility-as-a-service/
CATEGORIES:Its
ATTACH;FMTTYPE=image/jpeg:https://www.clustertrasporti.it/wp-content/uploads/2017/10/idee_1508503251_d12bb97b69.jpg
END:VEVENT
BEGIN:VEVENT
DTSTART;TZID=Europe/Rome:20220224T100000
DTEND;TZID=Europe/Rome:20220224T120000
DTSTAMP:20260419T230907
CREATED:20220222T094440Z
LAST-MODIFIED:20220222T094503Z
UID:3308-1645696800-1645704000@www.clustertrasporti.it
SUMMARY:M-APPERÒ - IL RUOLO DEI VEICOLI-SENSORE PER LA SICUREZZA E LA MANUTENZIONE STRADALE
DESCRIPTION:Giovedì 24 febbraio ore 10.00 appuntamento con “M-APPERÒ – IL RUOLO DEI VEICOLI –SENSORE PER LA SICUREZZA E LA MANUTENZIONE STRADALE”\, convegno dedicato al ruolo dei veicoli nell’interazione con le infrastrutture circostanti. \nL’incontro\, in modalità ibrida (in presenza – su invito – presso la Chiesa di San Giorgio di Brescia e on-line per tutti)\, è organizzato dal Cluster Lombardo della Mobilità insieme alla Provincia di Brescia e sarà l’occasione per presentare i risultati del progetto M-APPERO’/Roadsafety promosso dalla Provincia e dal Cluster\, con il sostegno della Camera di Commercio di Brescia e Confindustria di Brescia. \nE’ stata realizzata\, in particolare\, una piattaforma integrata di gestione delle informazioni digitali per monitorare la sicurezza e lo stato di usura delle infrastrutture stradali\, mettendo a disposizione degli Enti Pubblici e dei gestori delle strade un Decision Support System per pianificare\, gestire e ottimizzare gli interventi di manutenzione\, garantendo la sicurezza\, prevenzione e qualità nella spesa e nel servizio offerto ai cittadini. \nL’evento – che per i soci del Cluster vale anche come incontro del WG “Sensoristica di bordo e veicoli connessi” – vede la partecipazione\, oltre che del Cluster e della Provincia\, delle aziende coinvolte nel progetto (FASTERNET\, QMAP ed AIR)\, di Centro Padane e delle Università di Brescia e di Parma (prof. Maternini e prof. Giuliani). \nL’evento è stato reso possibile anche grazie al sostegno della Camera di Commercio di Brescia e Confindustria di Brescia. \nLink per iscrizioni al webinar
URL:https://www.clustertrasporti.it/evento/m-appero-il-ruolo-dei-veicoli-sensore-per-la-sicurezza-e-la-manutenzione-stradale/
CATEGORIES:Its
ATTACH;FMTTYPE=image/png:https://www.clustertrasporti.it/wp-content/uploads/2022/02/mapperò_24febbraio_1645523000_aad265be58.png
END:VEVENT
BEGIN:VEVENT
DTSTART;TZID=Europe/Rome:20201203T160000
DTEND;TZID=Europe/Rome:20201203T183000
DTSTAMP:20260419T230907
CREATED:20201122T124228Z
LAST-MODIFIED:20201122T124303Z
UID:2225-1607011200-1607020200@www.clustertrasporti.it
SUMMARY:Webinar “Future Mobility Day”
DESCRIPTION:Webinar “Future Mobility Day” dedicato all’innovazione dei servizi per la mobilità\, organizzato da Fiware\, la piattaforma Open Source per il futuro digitale intelligente. \nVerrà presentata la piattaforma MaaS (Mobility as a Service)\, il cui obiettivo è quello di offrire servizi di mobilità in una modalità Open Source e standardizzata e costituire un’architettura di riferimento che permetta la creazione di nuovi servizi di mobilità innovativi\, aiutando a creare un mercato di fiducia che consenta l’interoperabilità tra le diverse modalità di trasporto. \nPer partecipare è necessario registrarsi
URL:https://www.clustertrasporti.it/evento/2225/
CATEGORIES:Its
ATTACH;FMTTYPE=image/jpeg:https://www.clustertrasporti.it/wp-content/uploads/2018/03/smart-cities_1519909062_09c38d1163.jpg
END:VEVENT
BEGIN:VEVENT
DTSTART;TZID=Europe/Rome:20200928T110000
DTEND;TZID=Europe/Rome:20200928T120000
DTSTAMP:20260419T230907
CREATED:20200924T152224Z
LAST-MODIFIED:20200924T152844Z
UID:2122-1601290800-1601294400@www.clustertrasporti.it
SUMMARY:Webinar TTS Italia con la Città di Roma sul programma Smarter Italy
DESCRIPTION:Dopo la pausa estiva\, nell’ambito del programma Smarter Italy continuano i webinar di TTS Italia\, in collaborazione con e la supervisione di AGID\, per alimentare il confronto tra domanda e offerta\, al fine di fornire un contributo fattivo alla stazione Appaltante AGID per la definizione dei bandi di gara pubblicati a valle della consultazione di mercato che si concluderà il 30 settembre 2020. \nIl 6° e ultimo webinar si terrà il 28 settembre con la città di Roma\, alle ore 11.00. \nQuesto webinar\, come gli altri che l’hanno preceduto\, si incentra sui 4 temi individuati per il settore della Smart Mobility: \n\n1: Soluzione innovativa predittivo/adattativa per la Smart Mobility; \n2: Soluzioni innovative per il miglioramento della mobilità delle merci; \n3: Soluzioni innovative per il miglioramento della mobilità sostenibile nelle aree a domanda debole; \n4: Soluzioni innovative per il miglioramento della mobilità nei centri storici e nei borghi). \nLa città di Roma è in particolare interessata ai fabbisogni di innovazione dei temi 1 e 2.
URL:https://www.clustertrasporti.it/evento/webinar-tts-italia-con-la-citta-di-roma-sul-programma-smarter-italy/
CATEGORIES:Its
ATTACH;FMTTYPE=image/png:https://www.clustertrasporti.it/wp-content/uploads/2020/09/unnamed_1600961319_4af52202f7.png
END:VEVENT
BEGIN:VEVENT
DTSTART;VALUE=DATE:20180917
DTEND;VALUE=DATE:20180922
DTSTAMP:20260419T230907
CREATED:20180322T155318Z
LAST-MODIFIED:20180322T155318Z
UID:1406-1537142400-1537574399@www.clustertrasporti.it
SUMMARY:ITS World Congress - Copenhagen
DESCRIPTION:“Quality of Life” sarà il tema principale della prossima edizione del Congresso ITS Mondiale in programma dal 17 al 21 settembre 2018 a Copenhagen. L’evento indagherà come l’industria sia in grado di contribuire a una migliore qualità di vita\, aumentando i livelli di vivibilità\, rispettando l’ambiente e diminuendo la congestione.
URL:https://www.clustertrasporti.it/evento/its-world-congress-copenhagen/
LOCATION:The Bella Centre\, Center Blvd. 5\, Copenhagen\, Danimarca\, 2300
CATEGORIES:Its
ATTACH;FMTTYPE=image/jpeg:https://www.clustertrasporti.it/wp-content/uploads/2018/03/its-world-congress_1521652205_5dc17977a0.jpg
END:VEVENT
END:VCALENDAR