
BEGIN:VCALENDAR
VERSION:2.0
PRODID:-//Cluster Trasporti - ECPv6.2.9//NONSGML v1.0//EN
CALSCALE:GREGORIAN
METHOD:PUBLISH
X-ORIGINAL-URL:https://www.clustertrasporti.it
X-WR-CALDESC:Eventi per Cluster Trasporti
REFRESH-INTERVAL;VALUE=DURATION:PT1H
X-Robots-Tag:noindex
X-PUBLISHED-TTL:PT1H
BEGIN:VTIMEZONE
TZID:Europe/Rome
BEGIN:DAYLIGHT
TZOFFSETFROM:+0100
TZOFFSETTO:+0200
TZNAME:CEST
DTSTART:20220327T010000
END:DAYLIGHT
BEGIN:STANDARD
TZOFFSETFROM:+0200
TZOFFSETTO:+0100
TZNAME:CET
DTSTART:20221030T010000
END:STANDARD
END:VTIMEZONE
BEGIN:VEVENT
DTSTART;TZID=Europe/Rome:20221107T100000
DTEND;TZID=Europe/Rome:20221107T173000
DTSTAMP:20260422T005540
CREATED:20221018T085232Z
LAST-MODIFIED:20221018T085232Z
UID:3869-1667815200-1667842200@www.clustertrasporti.it
SUMMARY:Digitalizzazione e gestione del rischio: i protagonisti della mobilità sostenibile - Convegno
DESCRIPTION:Digitalizzazione e gestione del rischio: i protagonisti della mobilità sostenibile \nGenova – Palazzo Ducale\nP.zza G. Matteotti 9\n7 Novembre 2022\nore 10.00-17.30 \nNei prossimi decenni il settore della mobilità subirà profondi mutamenti legati all’introduzione di vettori energetici diversi da quelli fossili e una digitalizzazione e all’automatizzazione dei veicoli siano essi automobili\, treni o altro.\nPer far sì che questo scenario possa migliorare la mobilità e\nrenderla più rispettosa dell’ambiente è necessario analizzare fin da subito quelli che potrebbero essere gli elementi che impattano sulla sicurezza della mobilità. \nQuesti gli aspetti che verranno analizzati durante il convegno che vede la presenza di coloro che stanno progettando le infrastrutture per la realizzazione della smart mobility in Italia.
URL:https://www.clustertrasporti.it/evento/digitalizzazione-e-gestione-del-rischio-i-protagonisti-della-mobilita-sostenibile-convegno/
CATEGORIES:Its
ATTACH;FMTTYPE=image/jpeg:https://www.clustertrasporti.it/wp-content/uploads/2022/08/elettrico_mobilita_veloce_1659598193_dcf8a4562c.jpg
END:VEVENT
BEGIN:VEVENT
DTSTART;TZID=Europe/Rome:20221122T093000
DTEND;TZID=Europe/Rome:20221122T170000
DTSTAMP:20260422T005540
CREATED:20221117T113508Z
LAST-MODIFIED:20221117T113508Z
UID:3921-1669109400-1669136400@www.clustertrasporti.it
SUMMARY:THALASSA – Tecnologie e materiali innovativi per costruzioni navali
DESCRIPTION:MATERIALI INNOVATIVI PER LE COSTRUZIONI NAVALI\nTecHnology And materials for safe Low consumption And low life cycle cost veSSels And crafts \nCONFERENZA FINALE DI PROGETTO\nMESSINA 22.11.2022 – 09.30 \nConferenza finale in cui verranno presentati i risultati del progetto. \nLink per la registrazione \nhttps://forms.gle/TpaJnhVd9iEWjXea7
URL:https://www.clustertrasporti.it/evento/thalassa-tecnologie-e-materiali-innovativi-per-costruzioni-navali/
CATEGORIES:Marittima
ATTACH;FMTTYPE=image/png:https://www.clustertrasporti.it/wp-content/uploads/2017/01/navtec-sicilia_1483973129_801827138a.png
END:VEVENT
BEGIN:VEVENT
DTSTART;TZID=Europe/Rome:20221125T080000
DTEND;TZID=Europe/Rome:20221125T170000
DTSTAMP:20260422T005540
CREATED:20221125T095712Z
LAST-MODIFIED:20221125T100109Z
UID:3936-1669363200-1669395600@www.clustertrasporti.it
SUMMARY:Appalti per l'Innovazione\, opportunità per le imprese innovative - Workshop online
DESCRIPTION:Workshop organizzato da ART-ER nell’ambito delle attività del Consorzio SIMPLER – Enterprise Europe Network\, con l’obiettivo di fornire – in particolare a PMI e start up che sviluppano tecnologie e innovazioni – un quadro conoscitivo e introduttivo al tema degli appalti per l’innovazione\, procedure attraverso le quali l’acquirente pubblico acquista servizi di ricerca e sviluppo ovvero prodotti\, servizi\, processi che ancora non esistono sul mercato. \nIl programma \nNel corso del workshop saranno presentati casi studio e testimonianze di esperienze sul campo cui seguirà una tavola rotonda per un confronto su possibili scenari e ambiti applicativi di interesse per l’ecosistema regionale\, tenuto conto dei trend in atto e del crescente sviluppo dei mercati elettronici. \nRegistrati
URL:https://www.clustertrasporti.it/evento/appalti-per-linnovazione-opportunita-per-le-imprese-innovative-workshop-online/
CATEGORIES:Its
ATTACH;FMTTYPE=image/jpeg:https://www.clustertrasporti.it/wp-content/uploads/2021/06/rete-web_1623407642_bb6f94187e.jpg
END:VEVENT
END:VCALENDAR